BEGIN:VCALENDAR
VERSION:2.0
PRODID:-//LawVu - ECPv6.15.18//NONSGML v1.0//EN
CALSCALE:GREGORIAN
METHOD:PUBLISH
X-ORIGINAL-URL:https://lawvu.com
X-WR-CALDESC:Events for LawVu
REFRESH-INTERVAL;VALUE=DURATION:PT1H
X-Robots-Tag:noindex
X-PUBLISHED-TTL:PT1H
BEGIN:VTIMEZONE
TZID:America/New_York
BEGIN:DAYLIGHT
TZOFFSETFROM:-0500
TZOFFSETTO:-0400
TZNAME:EDT
DTSTART:20250309T070000
END:DAYLIGHT
BEGIN:STANDARD
TZOFFSETFROM:-0400
TZOFFSETTO:-0500
TZNAME:EST
DTSTART:20251102T060000
END:STANDARD
BEGIN:DAYLIGHT
TZOFFSETFROM:-0500
TZOFFSETTO:-0400
TZNAME:EDT
DTSTART:20260308T070000
END:DAYLIGHT
BEGIN:STANDARD
TZOFFSETFROM:-0400
TZOFFSETTO:-0500
TZNAME:EST
DTSTART:20261101T060000
END:STANDARD
BEGIN:DAYLIGHT
TZOFFSETFROM:-0500
TZOFFSETTO:-0400
TZNAME:EDT
DTSTART:20270314T070000
END:DAYLIGHT
BEGIN:STANDARD
TZOFFSETFROM:-0400
TZOFFSETTO:-0500
TZNAME:EST
DTSTART:20271107T060000
END:STANDARD
END:VTIMEZONE
BEGIN:VEVENT
DTSTART;TZID=America/New_York:20260429T030000
DTEND;TZID=America/New_York:20260429T160000
DTSTAMP:20260420T100341
CREATED:20260308T200009Z
LAST-MODIFIED:20260408T073806Z
UID:19958-1777431600-1777478400@lawvu.com
SUMMARY:How in-house legal teams can eliminate workflow blind spots with contract intelligence
DESCRIPTION:Move faster and make confident decisions when the stakes are high. \nContracts don’t exist in isolation. They move through drafting\, review\, approval\, and reporting — but too often\, insight gets lost along the way. \nIn this session\, we’ll show how contract intelligence connects every stage of the workflow\, turning everyday contract activity into decision-ready insight. \nYou’ll see how in-house legal teams can apply intelligence from draft to decision — without adding complexity or slowing the business down. \nWhat you’ll learn: \n\nWhat contract intelligence really means across legal workflows\nHow to apply consistent standards during drafting and review\nHow to capture key decisions and risk signals automatically\nHow to surface insights for faster approvals and leadership decisions\nHow connected intelligence reduces reliance on outside counsel\n\nWhy attend? \nLegal teams are under pressure to move faster — without increasing risk. \nThis session will show you how to connect drafting\, review\, approval\, and reporting into one intelligent workflow that supports faster\, more confident decisions.
URL:https://lawvu.com/event/how-in-house-legal-teams-can-eliminate-workflow-blind-spots-with-contract-intelligence/
CATEGORIES:Webinar
ATTACH;FMTTYPE=image/webp:https://lawvu.com/wp-content/uploads/ai-contract-blind-spots-webinar-website@2x-1.webp
END:VEVENT
END:VCALENDAR