BEGIN:VCALENDAR
VERSION:2.0
PRODID:-//LawVu - ECPv6.15.18//NONSGML v1.0//EN
CALSCALE:GREGORIAN
METHOD:PUBLISH
X-WR-CALNAME:LawVu
X-ORIGINAL-URL:https://lawvu.com
X-WR-CALDESC:Events for LawVu
REFRESH-INTERVAL;VALUE=DURATION:PT1H
X-Robots-Tag:noindex
X-PUBLISHED-TTL:PT1H
BEGIN:VTIMEZONE
TZID:America/Los_Angeles
BEGIN:DAYLIGHT
TZOFFSETFROM:-0800
TZOFFSETTO:-0700
TZNAME:PDT
DTSTART:20250309T100000
END:DAYLIGHT
BEGIN:STANDARD
TZOFFSETFROM:-0700
TZOFFSETTO:-0800
TZNAME:PST
DTSTART:20251102T090000
END:STANDARD
BEGIN:DAYLIGHT
TZOFFSETFROM:-0800
TZOFFSETTO:-0700
TZNAME:PDT
DTSTART:20260308T100000
END:DAYLIGHT
BEGIN:STANDARD
TZOFFSETFROM:-0700
TZOFFSETTO:-0800
TZNAME:PST
DTSTART:20261101T090000
END:STANDARD
BEGIN:DAYLIGHT
TZOFFSETFROM:-0800
TZOFFSETTO:-0700
TZNAME:PDT
DTSTART:20270314T100000
END:DAYLIGHT
BEGIN:STANDARD
TZOFFSETFROM:-0700
TZOFFSETTO:-0800
TZNAME:PST
DTSTART:20271107T090000
END:STANDARD
END:VTIMEZONE
BEGIN:VEVENT
DTSTART;TZID=America/Los_Angeles:20260325T110000
DTEND;TZID=America/Los_Angeles:20260325T120000
DTSTAMP:20260421T051001
CREATED:20260311T003720Z
LAST-MODIFIED:20260326T022456Z
UID:19964-1774436400-1774440000@lawvu.com
SUMMARY:AI and automation in legal ops: Lessons from in-house legal leaders
DESCRIPTION:AI is everywhere in legal tech – but many legal teams are discovering that simply adding AI features or automation tools doesn’t automatically deliver value. Without the right foundations in place\, these initiatives often fall short\, leading to poor adoption and growing skepticism. \nIn this session\, we’ll explore what it really means to be AI and automation-ready in legal operations. We’ll cover the core operational capabilities\, mindset shifts\, and practical questions legal ops teams should consider before investing in new technology\, so you can drive meaningful ROI\, not just experimentation. \nYou’ll also hear from Mike Vitko\, legal operations leader at Somatus\, who will share real-world insights on improving legal workflows and driving successful operational change. \nIn this session\, we’ll cover: \n\nWhy AI and automation initiatives often fail and what’s usually missing\nThe foundations legal ops teams need before adopting new technology\nKey questions to ask vendors (and internally) when evaluating solutions\nHow data\, workflows\, and adoption readiness impact success\nHow to set realistic expectations and deliver long-term value\nThis webinar is designed for in-house legal operations leaders who want to approach AI and automation with clarity and confidence
URL:https://lawvu.com/event/ai-and-automation-in-legal-ops-lessons-from-in-house-legal-leaders/
CATEGORIES:Webinar
ATTACH;FMTTYPE=image/webp:https://lawvu.com/wp-content/uploads/AI-and-automation-legal-ops-webinar-on-demand.webp
END:VEVENT
END:VCALENDAR